Package: gDRstyle Version: 1.2.0 Command: /home/biocbuild/bbs-3.19-bioc/R/bin/R CMD INSTALL gDRstyle StartedAt: 2024-10-16 16:13:09 -0400 (Wed, 16 Oct 2024) EndedAt: 2024-10-16 16:13:12 -0400 (Wed, 16 Oct 2024) EllapsedTime: 3.1 seconds RetCode: 0 Status: OK