Package: gDRstyle Version: 1.2.0 Command: /Library/Frameworks/R.framework/Resources/bin/R CMD check --install=check:gDRstyle.install-out.txt --library=/Library/Frameworks/R.framework/Resources/library --no-vignettes --timings gDRstyle_1.2.0.tar.gz StartedAt: 2024-10-17 05:38:09 -0400 (Thu, 17 Oct 2024) EndedAt: 2024-10-17 05:40:42 -0400 (Thu, 17 Oct 2024) EllapsedTime: 152.8 seconds RetCode: 0 Status: OK CheckDir: gDRstyle.Rcheck Warnings: 0