Package: gDRstyle Version: 1.2.0 Command: rm -rf gDRstyle.buildbin-libdir && mkdir gDRstyle.buildbin-libdir && /Users/biocbuild/BBS/utils/build-universal.sh gDRstyle_1.2.0.tar.gz /Library/Frameworks/R.framework/Resources/bin/R gDRstyle.buildbin-libdir StartedAt: 2024-10-18 18:36:35 -0400 (Fri, 18 Oct 2024) EndedAt: 2024-10-18 18:36:43 -0400 (Fri, 18 Oct 2024) EllapsedTime: 7.7 seconds RetCode: 0 Status: OK PackageFile: gDRstyle_1.2.0.tgz PackageFileSize: 656.6 KiB