Package: gDRimport Version: 1.2.0 Command: /Library/Frameworks/R.framework/Resources/bin/R CMD build --keep-empty-dirs --no-resave-data gDRimport StartedAt: 2024-06-09 16:43:48 -0400 (Sun, 09 Jun 2024) EndedAt: 2024-06-09 16:44:40 -0400 (Sun, 09 Jun 2024) EllapsedTime: 51.9 seconds RetCode: 0 Status: OK PackageFile: gDRimport_1.2.0.tar.gz PackageFileSize: 3.002 MiB