Package: gDRcore Version: 1.2.0 Command: /Library/Frameworks/R.framework/Resources/bin/R CMD INSTALL gDRcore StartedAt: 2024-06-09 15:33:17 -0400 (Sun, 09 Jun 2024) EndedAt: 2024-06-09 15:33:37 -0400 (Sun, 09 Jun 2024) EllapsedTime: 19.6 seconds RetCode: 0 Status: OK