Package: gDRcore Version: 1.2.0 Command: /Library/Frameworks/R.framework/Resources/bin/R CMD build --keep-empty-dirs --no-resave-data gDRcore StartedAt: 2024-06-09 21:52:43 -0400 (Sun, 09 Jun 2024) EndedAt: 2024-06-09 21:53:48 -0400 (Sun, 09 Jun 2024) EllapsedTime: 65.1 seconds RetCode: 0 Status: OK PackageFile: gDRcore_1.2.0.tar.gz PackageFileSize: 1.037 MiB