Package: gDRcore Version: 1.2.0 Command: rm -rf gDRcore.buildbin-libdir && mkdir gDRcore.buildbin-libdir && /Users/biocbuild/BBS/utils/build-universal.sh gDRcore_1.2.0.tar.gz /Library/Frameworks/R.framework/Resources/bin/R gDRcore.buildbin-libdir StartedAt: 2024-06-11 11:19:37 -0400 (Tue, 11 Jun 2024) EndedAt: 2024-06-11 11:20:08 -0400 (Tue, 11 Jun 2024) EllapsedTime: 31.2 seconds RetCode: 0 Status: OK PackageFile: gDRcore_1.2.0.tgz PackageFileSize: 1.21 MiB