Package: gDRcore Version: 1.2.0 Command: /Library/Frameworks/R.framework/Resources/bin/R CMD build --keep-empty-dirs --no-resave-data gDRcore StartedAt: 2024-10-17 00:54:57 -0400 (Thu, 17 Oct 2024) EndedAt: 2024-10-17 00:55:48 -0400 (Thu, 17 Oct 2024) EllapsedTime: 50.9 seconds RetCode: 0 Status: OK PackageFile: gDRcore_1.2.0.tar.gz PackageFileSize: 1.088 MiB