Package: gDRcore Version: 1.2.0 Command: rm -rf gDRcore.buildbin-libdir && mkdir gDRcore.buildbin-libdir && /Users/biocbuild/BBS/utils/build-universal.sh gDRcore_1.2.0.tar.gz /Library/Frameworks/R.framework/Resources/bin/R gDRcore.buildbin-libdir StartedAt: 2024-10-18 18:36:24 -0400 (Fri, 18 Oct 2024) EndedAt: 2024-10-18 18:36:49 -0400 (Fri, 18 Oct 2024) EllapsedTime: 24.8 seconds RetCode: 0 Status: OK PackageFile: gDRcore_1.2.0.tgz PackageFileSize: 1.261 MiB