Package: gDR Version: 1.2.0 Command: chmod a+r gDR -R && F:\biocbuild\bbs-3.19-bioc\R\bin\R.exe CMD build --keep-empty-dirs --no-resave-data gDR StartedAt: 2024-06-26 19:03:33 -0400 (Wed, 26 Jun 2024) EndedAt: 2024-06-26 19:04:29 -0400 (Wed, 26 Jun 2024) EllapsedTime: 55.8 seconds RetCode: 0 Status: OK PackageFile: gDR_1.2.0.tar.gz PackageFileSize: 277 KiB