Package: gDR Version: 1.2.0 Command: rm -rf gDR.buildbin-libdir && mkdir gDR.buildbin-libdir && F:\biocbuild\bbs-3.19-bioc\R\bin\R.exe CMD INSTALL --build --library=gDR.buildbin-libdir gDR_1.2.0.tar.gz StartedAt: 2024-06-27 08:14:53 -0400 (Thu, 27 Jun 2024) EndedAt: 2024-06-27 08:15:35 -0400 (Thu, 27 Jun 2024) EllapsedTime: 42.3 seconds RetCode: 0 Status: OK PackageFile: gDR_1.2.0.zip PackageFileSize: 283.9 KiB