Package: gDR Version: 1.2.0 Command: /home/biocbuild/bbs-3.19-bioc/R/bin/R CMD build --keep-empty-dirs --no-resave-data gDR StartedAt: 2024-10-16 18:35:54 -0400 (Wed, 16 Oct 2024) EndedAt: 2024-10-16 18:36:44 -0400 (Wed, 16 Oct 2024) EllapsedTime: 50.1 seconds RetCode: 0 Status: OK PackageFile: gDR_1.2.0.tar.gz PackageFileSize: 277 KiB