Package: gDR Version: 1.2.0 Command: /Library/Frameworks/R.framework/Resources/bin/R CMD check --install=check:gDR.install-out.txt --library=/Library/Frameworks/R.framework/Resources/library --no-vignettes --timings gDR_1.2.0.tar.gz StartedAt: 2024-06-09 20:29:35 -0400 (Sun, 09 Jun 2024) EndedAt: 2024-06-09 20:32:37 -0400 (Sun, 09 Jun 2024) EllapsedTime: 182.2 seconds RetCode: 0 Status: OK CheckDir: gDR.Rcheck Warnings: 0