Package: gDR Version: 1.2.0 Command: /home/biocbuild/R/R-beta-2024-04-15_r86425/bin/R CMD check --install=check:gDR.install-out.txt --library=/home/biocbuild/R/R-beta-2024-04-15_r86425/site-library --no-vignettes --timings gDR_1.2.0.tar.gz StartedAt: 2024-05-09 07:35:01 -0000 (Thu, 09 May 2024) EndedAt: 2024-05-09 07:38:33 -0000 (Thu, 09 May 2024) EllapsedTime: 212.4 seconds RetCode: 0 Status: OK CheckDir: gDR.Rcheck Warnings: 0