Package: gDR Version: 1.2.0 Command: /Library/Frameworks/R.framework/Resources/bin/R CMD build --keep-empty-dirs --no-resave-data gDR StartedAt: 2024-10-17 00:54:28 -0400 (Thu, 17 Oct 2024) EndedAt: 2024-10-17 00:55:26 -0400 (Thu, 17 Oct 2024) EllapsedTime: 58.6 seconds RetCode: 0 Status: OK PackageFile: gDR_1.2.0.tar.gz PackageFileSize: 276.9 KiB