Package: gDR Version: 1.2.0 Command: rm -rf gDR.buildbin-libdir && mkdir gDR.buildbin-libdir && /Users/biocbuild/BBS/utils/build-universal.sh gDR_1.2.0.tar.gz /Library/Frameworks/R.framework/Resources/bin/R gDR.buildbin-libdir StartedAt: 2024-10-18 18:36:23 -0400 (Fri, 18 Oct 2024) EndedAt: 2024-10-18 18:36:57 -0400 (Fri, 18 Oct 2024) EllapsedTime: 33.9 seconds RetCode: 0 Status: OK PackageFile: gDR_1.2.0.tgz PackageFileSize: 279.1 KiB