Package: gDR Version: 1.2.0 Maintainer: Arkadiusz Gladki MaintainerEmail: gladki.arkadiusz at gmail.com git_url: https://git.bioconductor.org/packages/gDR git_branch: RELEASE_3_19 git_last_commit: b86b89e git_last_commit_date: 2024-04-30 11:50:18 -0400 (Tue, 30 Apr 2024)