Package: gDNAx Version: 1.2.1 Command: E:\biocbuild\bbs-3.19-bioc\R\bin\R.exe CMD INSTALL gDNAx StartedAt: 2024-10-16 16:34:06 -0400 (Wed, 16 Oct 2024) EndedAt: 2024-10-16 16:35:01 -0400 (Wed, 16 Oct 2024) EllapsedTime: 55.2 seconds RetCode: 0 Status: OK