Package: gDNAx Version: 1.2.0 Command: rm -rf gDNAx.buildbin-libdir && mkdir gDNAx.buildbin-libdir && F:\biocbuild\bbs-3.19-bioc\R\bin\R.exe CMD INSTALL --build --library=gDNAx.buildbin-libdir gDNAx_1.2.0.tar.gz StartedAt: 2024-06-27 08:14:51 -0400 (Thu, 27 Jun 2024) EndedAt: 2024-06-27 08:15:48 -0400 (Thu, 27 Jun 2024) EllapsedTime: 57.1 seconds RetCode: 0 Status: OK PackageFile: gDNAx_1.2.0.zip PackageFileSize: 948.5 KiB