Package: gDNAx Version: 1.2.1 Command: /Library/Frameworks/R.framework/Resources/bin/R CMD INSTALL gDNAx StartedAt: 2024-10-16 15:43:18 -0400 (Wed, 16 Oct 2024) EndedAt: 2024-10-16 15:44:56 -0400 (Wed, 16 Oct 2024) EllapsedTime: 98.2 seconds RetCode: 0 Status: OK