Package: gDNAx Version: 1.2.0 Command: /Library/Frameworks/R.framework/Resources/bin/R CMD INSTALL gDNAx StartedAt: 2024-06-09 15:56:21 -0400 (Sun, 09 Jun 2024) EndedAt: 2024-06-09 15:57:30 -0400 (Sun, 09 Jun 2024) EllapsedTime: 68.8 seconds RetCode: 0 Status: OK