Package: gDNAx Version: 1.2.0 Command: /Library/Frameworks/R.framework/Resources/bin/R CMD build --keep-empty-dirs --no-resave-data gDNAx StartedAt: 2024-06-09 21:52:35 -0400 (Sun, 09 Jun 2024) EndedAt: 2024-06-09 21:56:58 -0400 (Sun, 09 Jun 2024) EllapsedTime: 262.3 seconds RetCode: 0 Status: OK PackageFile: gDNAx_1.2.0.tar.gz PackageFileSize: 737.6 KiB