Package: gDNAx Version: 1.2.1 Command: rm -rf gDNAx.buildbin-libdir && mkdir gDNAx.buildbin-libdir && /Users/biocbuild/BBS/utils/build-universal.sh gDNAx_1.2.1.tar.gz /Library/Frameworks/R.framework/Resources/bin/R gDNAx.buildbin-libdir StartedAt: 2024-10-18 18:36:04 -0400 (Fri, 18 Oct 2024) EndedAt: 2024-10-18 18:37:10 -0400 (Fri, 18 Oct 2024) EllapsedTime: 66.5 seconds RetCode: 0 Status: OK PackageFile: gDNAx_1.2.1.tgz PackageFileSize: 1.09 MiB