Package: gCrisprTools Version: 2.10.0 Command: chmod a+r gCrisprTools -R && E:\biocbuild\bbs-3.19-bioc\R\bin\R.exe CMD build --keep-empty-dirs --no-resave-data gCrisprTools StartedAt: 2024-10-16 19:18:36 -0400 (Wed, 16 Oct 2024) EndedAt: 2024-10-16 19:23:10 -0400 (Wed, 16 Oct 2024) EllapsedTime: 274.2 seconds RetCode: 0 Status: OK PackageFile: gCrisprTools_2.10.0.tar.gz PackageFileSize: 3.054 MiB