Package: gCrisprTools Version: 2.10.0 Command: rm -rf gCrisprTools.buildbin-libdir && mkdir gCrisprTools.buildbin-libdir && /Users/biocbuild/BBS/utils/build-universal.sh gCrisprTools_2.10.0.tar.gz /Library/Frameworks/R.framework/Resources/bin/R gCrisprTools.buildbin-libdir StartedAt: 2024-10-18 18:35:46 -0400 (Fri, 18 Oct 2024) EndedAt: 2024-10-18 18:36:24 -0400 (Fri, 18 Oct 2024) EllapsedTime: 38.5 seconds RetCode: 0 Status: OK PackageFile: gCrisprTools_2.10.0.tgz PackageFileSize: 4.959 MiB