Package: funtooNorm Version: 1.28.0 Command: chmod a+r funtooNorm -R && E:\biocbuild\bbs-3.19-bioc\R\bin\R.exe CMD build --keep-empty-dirs --no-resave-data funtooNorm StartedAt: 2024-10-16 19:16:48 -0400 (Wed, 16 Oct 2024) EndedAt: 2024-10-16 19:16:51 -0400 (Wed, 16 Oct 2024) EllapsedTime: 3.0 seconds RetCode: 0 Status: OK PackageFile: funtooNorm_1.28.0.tar.gz PackageFileSize: 2.458 MiB