Package: funtooNorm Version: 1.28.0 Command: F:\biocbuild\bbs-3.19-bioc\R\bin\R.exe CMD check --no-multiarch --install=check:funtooNorm.install-out.txt --library=F:\biocbuild\bbs-3.19-bioc\R\library --no-vignettes --timings funtooNorm_1.28.0.tar.gz StartedAt: 2024-06-27 01:47:50 -0400 (Thu, 27 Jun 2024) EndedAt: 2024-06-27 01:56:11 -0400 (Thu, 27 Jun 2024) EllapsedTime: 501.0 seconds RetCode: 0 Status: WARNINGS CheckDir: funtooNorm.Rcheck Warnings: 2