Package: funtooNorm Version: 1.28.0 Command: /home/biocbuild/bbs-3.19-bioc/R/bin/R CMD build --keep-empty-dirs --no-resave-data funtooNorm StartedAt: 2024-10-16 18:34:34 -0400 (Wed, 16 Oct 2024) EndedAt: 2024-10-16 18:34:35 -0400 (Wed, 16 Oct 2024) EllapsedTime: 1.0 seconds RetCode: 0 Status: OK PackageFile: funtooNorm_1.28.0.tar.gz PackageFileSize: 2.458 MiB