Package: funtooNorm Version: 1.28.0 Command: /Library/Frameworks/R.framework/Resources/bin/R CMD INSTALL funtooNorm StartedAt: 2024-06-09 15:40:51 -0400 (Sun, 09 Jun 2024) EndedAt: 2024-06-09 15:41:49 -0400 (Sun, 09 Jun 2024) EllapsedTime: 57.7 seconds RetCode: 0 Status: OK