Package: funtooNorm Version: 1.28.0 Maintainer: Kathleen Klein MaintainerEmail: kathleen.klein at mail.mcgill.ca git_url: https://git.bioconductor.org/packages/funtooNorm git_branch: RELEASE_3_19 git_last_commit: 55ffa54 git_last_commit_date: 2024-04-30 10:55:52 -0400 (Tue, 30 Apr 2024)