Package: frmaTools Version: 1.56.0 Command: E:\biocbuild\bbs-3.19-bioc\R\bin\R.exe CMD check --no-multiarch --install=check:frmaTools.install-out.txt --library=E:\biocbuild\bbs-3.19-bioc\R\library --no-vignettes --timings frmaTools_1.56.0.tar.gz StartedAt: 2024-10-17 01:36:08 -0400 (Thu, 17 Oct 2024) EndedAt: 2024-10-17 01:36:55 -0400 (Thu, 17 Oct 2024) EllapsedTime: 46.7 seconds RetCode: 0 Status: OK CheckDir: frmaTools.Rcheck Warnings: 0