Package: frmaTools Version: 1.56.0 Command: chmod a+r frmaTools -R && F:\biocbuild\bbs-3.19-bioc\R\bin\R.exe CMD build --keep-empty-dirs --no-resave-data frmaTools StartedAt: 2024-06-26 19:01:16 -0400 (Wed, 26 Jun 2024) EndedAt: 2024-06-26 19:01:39 -0400 (Wed, 26 Jun 2024) EllapsedTime: 23.3 seconds RetCode: 0 Status: OK PackageFile: frmaTools_1.56.0.tar.gz PackageFileSize: 74.75 KiB