Package: frmaTools Version: 1.56.0 Command: /Library/Frameworks/R.framework/Resources/bin/R CMD build --keep-empty-dirs --no-resave-data frmaTools StartedAt: 2024-10-16 19:21:27 -0400 (Wed, 16 Oct 2024) EndedAt: 2024-10-16 19:22:06 -0400 (Wed, 16 Oct 2024) EllapsedTime: 38.3 seconds RetCode: 0 Status: OK PackageFile: frmaTools_1.56.0.tar.gz PackageFileSize: 157.7 KiB