Package: frmaTools Version: 1.56.0 Command: rm -rf frmaTools.buildbin-libdir && mkdir frmaTools.buildbin-libdir && /Users/biocbuild/BBS/utils/build-universal.sh frmaTools_1.56.0.tar.gz /Library/Frameworks/R.framework/Resources/bin/R frmaTools.buildbin-libdir StartedAt: 2024-06-11 11:17:00 -0400 (Tue, 11 Jun 2024) EndedAt: 2024-06-11 11:17:09 -0400 (Tue, 11 Jun 2024) EllapsedTime: 9.4 seconds RetCode: 0 Status: OK PackageFile: frmaTools_1.56.0.tgz PackageFileSize: 184.4 KiB