Package: frmaTools Version: 1.56.0 Command: /Library/Frameworks/R.framework/Resources/bin/R CMD build --keep-empty-dirs --no-resave-data frmaTools StartedAt: 2024-10-17 00:44:05 -0400 (Thu, 17 Oct 2024) EndedAt: 2024-10-17 00:44:28 -0400 (Thu, 17 Oct 2024) EllapsedTime: 23.7 seconds RetCode: 0 Status: OK PackageFile: frmaTools_1.56.0.tar.gz PackageFileSize: 157.7 KiB