Package: frma Version: 1.56.0 Command: chmod a+r frma -R && E:\biocbuild\bbs-3.19-bioc\R\bin\R.exe CMD build --keep-empty-dirs --no-resave-data frma StartedAt: 2024-10-16 19:16:31 -0400 (Wed, 16 Oct 2024) EndedAt: 2024-10-16 19:17:51 -0400 (Wed, 16 Oct 2024) EllapsedTime: 80.8 seconds RetCode: 0 Status: OK PackageFile: frma_1.56.0.tar.gz PackageFileSize: 148.9 KiB