Package: frma Version: 1.56.0 Command: /home/biocbuild/bbs-3.19-bioc/R/bin/R CMD build --keep-empty-dirs --no-resave-data frma StartedAt: 2024-10-16 18:34:23 -0400 (Wed, 16 Oct 2024) EndedAt: 2024-10-16 18:35:23 -0400 (Wed, 16 Oct 2024) EllapsedTime: 60.2 seconds RetCode: 0 Status: OK PackageFile: frma_1.56.0.tar.gz PackageFileSize: 145.8 KiB