Package: frma Version: 1.56.0 Command: /Library/Frameworks/R.framework/Resources/bin/R CMD INSTALL frma StartedAt: 2024-10-16 15:28:46 -0400 (Wed, 16 Oct 2024) EndedAt: 2024-10-16 15:29:56 -0400 (Wed, 16 Oct 2024) EllapsedTime: 70.2 seconds RetCode: 0 Status: OK