Package: frma Version: 1.56.0 Command: /home/biocbuild/R/R-beta-2024-04-15_r86425/bin/R CMD INSTALL frma StartedAt: 2024-05-08 20:18:35 -0000 (Wed, 08 May 2024) EndedAt: 2024-05-08 20:19:15 -0000 (Wed, 08 May 2024) EllapsedTime: 39.6 seconds RetCode: 0 Status: OK