Package: frma Version: 1.56.0 Command: /Library/Frameworks/R.framework/Resources/bin/R CMD build --keep-empty-dirs --no-resave-data frma StartedAt: 2024-10-17 00:43:59 -0400 (Thu, 17 Oct 2024) EndedAt: 2024-10-17 00:45:23 -0400 (Thu, 17 Oct 2024) EllapsedTime: 83.9 seconds RetCode: 0 Status: OK PackageFile: frma_1.56.0.tar.gz PackageFileSize: 288 KiB