Package: frenchFISH Version: 1.16.0 Command: /Library/Frameworks/R.framework/Resources/bin/R CMD check --install=check:frenchFISH.install-out.txt --library=/Library/Frameworks/R.framework/Resources/library --no-vignettes --timings frenchFISH_1.16.0.tar.gz StartedAt: 2024-06-10 16:06:12 -0400 (Mon, 10 Jun 2024) EndedAt: 2024-06-10 16:07:01 -0400 (Mon, 10 Jun 2024) EllapsedTime: 48.3 seconds RetCode: 0 Status: OK CheckDir: frenchFISH.Rcheck Warnings: 0