Package: fobitools Version: 1.12.0 Command: F:\biocbuild\bbs-3.19-bioc\R\bin\R.exe CMD INSTALL fobitools StartedAt: 2024-06-26 16:40:17 -0400 (Wed, 26 Jun 2024) EndedAt: 2024-06-26 16:40:37 -0400 (Wed, 26 Jun 2024) EllapsedTime: 19.8 seconds RetCode: 0 Status: OK