Package: fobitools Version: 1.12.0 Command: chmod a+r fobitools -R && F:\biocbuild\bbs-3.19-bioc\R\bin\R.exe CMD build --keep-empty-dirs --no-resave-data fobitools StartedAt: 2024-06-26 19:00:23 -0400 (Wed, 26 Jun 2024) EndedAt: 2024-06-26 19:01:55 -0400 (Wed, 26 Jun 2024) EllapsedTime: 91.4 seconds RetCode: 0 Status: OK PackageFile: fobitools_1.12.0.tar.gz PackageFileSize: 2.992 MiB