Package: fobitools Version: 1.12.0 Command: rm -rf fobitools.buildbin-libdir && mkdir fobitools.buildbin-libdir && F:\biocbuild\bbs-3.19-bioc\R\bin\R.exe CMD INSTALL --build --library=fobitools.buildbin-libdir fobitools_1.12.0.tar.gz StartedAt: 2024-06-27 08:14:09 -0400 (Thu, 27 Jun 2024) EndedAt: 2024-06-27 08:14:37 -0400 (Thu, 27 Jun 2024) EllapsedTime: 27.4 seconds RetCode: 0 Status: OK PackageFile: fobitools_1.12.0.zip PackageFileSize: 2.29 MiB