Package: fobitools Version: 1.12.0 Command: rm -rf fobitools.buildbin-libdir && mkdir fobitools.buildbin-libdir && /Users/biocbuild/BBS/utils/build-universal.sh fobitools_1.12.0.tar.gz /Library/Frameworks/R.framework/Resources/bin/R fobitools.buildbin-libdir StartedAt: 2024-06-11 11:16:36 -0400 (Tue, 11 Jun 2024) EndedAt: 2024-06-11 11:16:59 -0400 (Tue, 11 Jun 2024) EllapsedTime: 23.2 seconds RetCode: 0 Status: OK PackageFile: fobitools_1.12.0.tgz PackageFileSize: 3.881 MiB