Package: fobitools Version: 1.12.0 Command: /Library/Frameworks/R.framework/Resources/bin/R CMD INSTALL fobitools StartedAt: 2024-10-16 18:18:53 -0400 (Wed, 16 Oct 2024) EndedAt: 2024-10-16 18:19:08 -0400 (Wed, 16 Oct 2024) EllapsedTime: 15.0 seconds RetCode: 0 Status: OK