Package: fobitools Version: 1.12.0 Command: /Library/Frameworks/R.framework/Resources/bin/R CMD build --keep-empty-dirs --no-resave-data fobitools StartedAt: 2024-10-17 00:42:01 -0400 (Thu, 17 Oct 2024) EndedAt: 2024-10-17 00:43:25 -0400 (Thu, 17 Oct 2024) EllapsedTime: 84.7 seconds RetCode: 0 Status: OK PackageFile: fobitools_1.12.0.tar.gz PackageFileSize: 4.575 MiB