Package: fmrs Version: 1.14.0 Command: /home/biocbuild/bbs-3.19-bioc/R/bin/R CMD INSTALL fmrs StartedAt: 2024-10-16 16:27:11 -0400 (Wed, 16 Oct 2024) EndedAt: 2024-10-16 16:27:23 -0400 (Wed, 16 Oct 2024) EllapsedTime: 11.6 seconds RetCode: 0 Status: OK