Package: fmrs Version: 1.14.0 Command: /home/biocbuild/bbs-3.19-bioc/R/bin/R CMD check --install=check:fmrs.install-out.txt --library=/home/biocbuild/bbs-3.19-bioc/R/site-library --timings fmrs_1.14.0.tar.gz StartedAt: 2024-10-17 00:32:26 -0400 (Thu, 17 Oct 2024) EndedAt: 2024-10-17 00:33:11 -0400 (Thu, 17 Oct 2024) EllapsedTime: 45.1 seconds RetCode: 0 Status: OK CheckDir: fmrs.Rcheck Warnings: 0