Package: fmrs Version: 1.14.0 Command: /Library/Frameworks/R.framework/Resources/bin/R CMD build --keep-empty-dirs --no-resave-data fmrs StartedAt: 2024-06-09 21:45:30 -0400 (Sun, 09 Jun 2024) EndedAt: 2024-06-09 21:45:50 -0400 (Sun, 09 Jun 2024) EllapsedTime: 20.5 seconds RetCode: 0 Status: OK PackageFile: fmrs_1.14.0.tar.gz PackageFileSize: 46.99 KiB